Workbook

Sheet popisi
A2: ID 1152805 T.2.2 Predračun in rekapitulacija za intervencijsko stabilizacije zidov in I faze ceste LC 257 011 ob Helenskem potoku v dolžini 1000m. Pri vseh postavkah se naj upošteva nabava, dobava in izvedba.
A4: 1. | C4: PRIPRAVLJALNA DELA
A6: 1.1 | C6: Geodetska dela
A8: 11 211 | C8: Zakoličba objekta,zavarovanje prečnih profilov in geodetska spremljava tekom gradnje (profilov na cesti 59, 43 jaškov), posnetek po končani gradnji s certifikatom. Vzpostavit je potrebno poligon. Uradni zakoličbeni zapisnik
C10: ocena
A12: 11 212 | C12: Zakoličba komunalnih vodov (telekom,) in njihovo zavarovanje.Pri lastniku se sprotno preveri ali imajo kakšne interne vode
C14: ocena
A16: 11 222 | C16: Postavitev in zavarovanje prečnih profilov obojestransko se postavi križ
C17: kom | D17: 59 | F17: =E17*D17 -> 0
A19: 11 513 | C19: Določitev in preverjanje položajev, višin in smeri pri sanaciji in rehabilitaciji objekta s površino nad 1000m2
C21: kos | D21: 260 | F21: =E21*D21 -> 0
A23: 11 612 | C23: Sprotna geodetska spremljava izvedenih del po mesečnih situacijah
C24: ur | D24: 40 | F24: =E24*D24 -> 0
A26: 1.2 | C26: Čiščenje terena
A28: 12 111 | C28: Posek in odstranitev grmičevja z debli do 10cm in odvozom na deponijo, do 5km
C29: brežina ob robu ceste 970X3=2910m2 previdno čiščenje podrasti iz zidov 618m x 3,5m=2163m
C30: m2 | D30: 5073 | F30: =E30*D30 -> 0
A32: 12 111 | C32: Čiščenje ostankov lesa v strugi nad vtokom v naravni tunel (potreben HIAB z dolgo rokoin traktor z vitlom) in ob strugi in izdelava sekancev
C33: čiščenje ostankov v strugi in ob strugi
C34: m3 | D34: 25 | F34: =E34*D34 -> 0
A36: 12 112 | C36: Posek in odstranitev dreves z debli do 10-30cm z odstranitvijo vej in panjev, in čiščenje lesa iz struge odvoz k lastniku
C37: na plazu 46kom
C38: kom | D38: 46 | F38: =E38*D38 -> 0
A40: 12 113 | C40: Posek in odstranitev dreves z debli do 30-50cm z odstranitvijo vej in panjev na deponijo lastnika
C41: na plazu 18kom
C42: kom | D42: 18 | F42: =E42*D42 -> 0
A44: 1.2.3 | C44: Porušitev in odstranitev voziščnih konstrukcij
A46: 12 382 | C46: Rezanje asfalta debeline 10cm cesta 9m
C47: m1 | D47: 4 | F47: =E47*D47 -> 0
A49: 12 387 | C49: Rušenje asfaltnega vozišča do 10cm in odvoz na deponijo koncensijonarja do 30km. (evidenčni list) cesta 999x4m=3996m2 + razširitve 86m2
C50: m2 | D50: 4082 | F50: =E50*D50 -> 0
A52: 12 312 | C52: Rušenje grede in zemljine v debelini 60cm za razširitev ceste in odvoz na deponijo koncensijonarja do 5km. cesta 394x1,5x0,6m=591m2
C53: m2 | D53: 591 | F53: =E53*D53 -> 0
A55: 12 411 | C55: Rušenje prepustov z odvozom na deponijo koncensijonarja do 10km.
C56: m1 | D56: 42 | F56: =E56*D56 -> 0
A58: 1.3.1 | C58: Omejitev prometa
A60: 13 113 | C60: Izvedba elaborata in ureditev popolne zapore ceste za obdobje 210 dni z vsemi obvestilnimi tablami za obvoz, in znaki kateri označujejo neposredno bližino gradbišča, obvezno je vse stranke obvestiti, da se temu prilagodijo
C61: dan | D61: 210 | F61: =E61*D61 -> 0
A63: 1.3.2 | C63: Pripravljalna dela pri objektih
A65: 13 311 | C65: Priprava gradbišča in odstranitev, kontejner, elektrika (agregat 10kW), voda WC,gradbiščna ograja itd.
C66: ocena
A68: 13 222 | C68: Sprotne preusmeritve vodotoka Vgradnja rebrastih PVC fi 600mm dolžine 2x 60m (dela na dveh lokacijah)za prevajanje min. pretokov potoka.V ceni upoštevati stabilizacijo cevi 12 kratno prestavljanje vzdolž celotne trase. Po končani gradnji odstranitev. Uporaba bagerja z biološko razgradljivim oljem
C70: m1 | D70: 720 | F70: =E70*D70 -> 0
A72: 13 222 | C72: Ureditev začasne preusmeritve vodotoka-usmerjevalni "lijak".Izvedba zajezitve zatesnjene z glino Uporaba bagerja z biološko razgradljivim oljem
C74: kom | D74: 12 | F74: =E74*D74 -> 0
A76: 12 312 | C76: Založitev usmerjevalnega lijaka izvedeno z lomljenim kamnom 400-800kg, d=70-80cm, v dveh linijah,da bo prostora za glineni naboj min 60cm, pred vgradnjo se izvede delna poglobitev dna za 20cm, Uporaba bagerja z biološko razgradljivim oljem,
C78: m3neto | D78: 48 | F78: =E78*D78 -> 0
A80: 12 313 | C80: Fazna izvedba poti za dostop v strugo na desni obali izvedeno iz skal 300-800kg, preko skal pa 20cm nasutje lomljenca 30-64mm in njeno vzdrževanje tekom del, po končanju del se ves nasip odstrani-na koto dna struge pred začetkom gradnje. Uporaba bagerja z biološko razgradljivim oljem, skale se uporabijo kasneje za zavarovanje brežin,
C82: m3 | D82: 170 | F82: =E82*D82 -> 0
A85: 13 252 | C85: Črpanje vode za zavarovanje gradbene jame od 5-10l/s v fazi del v strugi (v času del)
C87: ur | D87: 360 | F87: =E87*D87 -> 0
A89: 13 261 | C89: Dobava in postavitev premičnega delovnega odra za izvajanje del pri izvedbi zidov, višina odra do 5m, dolžina odra do 20-30m,v ceni upoštevaj da se oder 100m2 15krat prestavi .
C91: m2 | D91: 100 | F91: =E91*D91 -> 0
A93: 13 291 | C93: Začasna in trajna prestavitev instalacij telekom kabelskega voda na območju objekta(začasno se stabilizira na nivoju ceste, nato prestavi na trajne konzole (kabel je v alakten cevi fi 110mm)
C95: m | D95: 980 | F95: =E95*D95 -> 0
A97: 13 291 | C97: Začasna stabilizacija elektro drogov s strani upravljalca in ponovno fiksiranje, jekleni profil je v postavki ključavničarskih del)
C99: kom | D99: 8 | F99: =E99*D99 -> 0
A101: 1.3.4 | C101: Odškodnine
A103: 13 431 | C103: Odškodnine zaradi onesnaženja voda, odlov rib ipd.
C105: kos | D105: 1 | F105: =E105*D105 -> 0
A107: 13 452 | C107: Nadomestilo zaradi zastoja celotne gradnje, zaradi višje sile po odredbi nadzornika, več kot en dan
C109: dan | D109: 1 | F109: =E109*D109 -> 0
A111: 1.4 | C111: Predhodna dela za popravilo objektov
A114: 14 531 | C114: Odstranitev rahlih delcev na kamnitih in betonskih zidovih z vodnim curkom pod visokim pritiskom v območju odbijanja betona hodnika in robnega venca 150-200 bari
C116: m2 | D116: 2163 | F116: =E116*D116 -> 0
A118: 14 841 | C118: Vrtanje lukenj fi 25 mm, l=40cm v območju obstoječih betonskih zidov in mostu , vgradijo se pasivna sidra RA fi 16 l=80cm v ALTEX malto v obstoječo most čez v PR A 45 = 24kom sovpreganje z obstoječimi zidovi =461kom
C119: kom | D119: 485 | F119: =E119*D119 -> 0
C121: PRIPRAVLJALNA DELA SKUPAJ: | F121: =SUM(F8:F120) -> 0
A122: 2. | C122: ZEMELJSKA DELA IN TEMELJENJE
A124: 2.1 | C124: Izkopi
A126: 21 112 | C126: Profiliranje-pikiranje brežine nad cesto (V-VI kat) debeline do 30cm odstranijo se nevarni razpokani previsi, z odvozom do 5km. Potreben bager z dosegom do 9m
C127: 1612x (3+5)/2=
C128: m3 (raščenih) | D128: 128 | F128: =E128*D128 -> 0
A130: 21 234 | C130: Široki izkop zemljine (III-IVkat) za izvedbo platoja kamnito betonskih zidov v strugi, z odvozom do 5km, vse skale ≥60cm se deponirajo ob nasprotno obalo zidu in v končni fazi izmenično postavijo v dno struge z namenom "zatočišča" rib
C131: območje zidov in rolirane brežine 720mx(3+4)m2/2=2520m3
C132: m3 (raščenih) | D132: 2520 | F132: =E132*D132 -> 0
A134: 21 324 | C134: Izkop zemljine z odvozom do 5km (V-VI.kat) za drenaže in meteorno odvodnjo vzdolž ceste dno pravnano ± 2cm v ceni upoštevaj odvoz na deponijo do 5km
C135: DKC 150, 200, 250 in 315 980x((0,6+1,0)/2x1,0)) =784,00m3 prepusti 57x1,5m3/m1=85,5m3 izkop za jaške, = 34m3
C136: m3 (raščenih) | D136: 903.5 | F136: =E136*D136 -> 0
A139: 21 335 | C139: Izkop-pikiranje plastovite skale(V-VI.kat) za temelje kamnito betonskih zidov , dno pravnano ± 5cm v ceni upoštevaj odvoz na deponijo do 5km
C140: 720x1,5x0,5=540m3
C141: m3 (raščenih) | D141: 540 | F141: =E141*D141 -> 0
A143: 2.2 | C143: Planum temeljnih tal
A145: 22 112 | C145: Planum temeljnih tal v težki zemljini z valjarjem 6ton.
C146: cesta =5940m2
C147: m2 | D147: 5940 | F147: =E147*D147 -> 0
A149: 2.4 | C149: Nasipi, zasipi, klini
A151: 24 113 | C151: Dobava in vgrajevanje lomljenega kamnitega drenažnega materiala fi 30-60mm, za drenaže. (ne sme biti iz Žerjava) drenažna kanalizacija ob cesti 974x0,8m3/m1=779,2m3 odvodnja-prepusti 57x1,5m3/m1 = 85,5m3 za zidovi in rolirano brežino = 161,0m3 okrog jaškov in gnezd 0,5-1m3/kom 23 = 18,0m3
C153: m3 | D153: 1043.7 | F153: =E153*D153 -> 0
A155: 24 216 | C155: Dobava in vgrajevanje nasipa spodnjega ustroja z drobljencem (0-90mm) in valjanjem na 60MPa, d=30-50cm, dograditev ceste-sp.ustroj,za izravnavo nivelete in valjanje z valjarjem lastne teže 12 ton.
C156: dograditev ceste 361mx(2+2,5)/2x0,4=324,9m3
C157: m3uvaljanega | D157: 324.9 | F157: =E157*D157 -> 0
A159: 24 218 | C159: Planiranje izkopnega materiala in planiranje pobočja nad drenažami in meteorno kanalizacijo v debelini do 0,5m.
C161: m2 | D161: 4890 | F161: =E161*D161 -> 0
A164: 2.5 | C164: Brežine in zelenice
A166: 25 111 | C166: Humaniziranje brežin v d=20-25cm brez valjanja, vseh tangiranih površin Humoz je potrebno pripeljati
C168: m2 | D168: 1440 | F168: =E168*D168 -> 0
A170: 25 153 | C170: Posejanje brežin s travnim semenom z dodatkom umetnih gnojil 250kg/ha
C172: m2 | D172: 1440 | F172: =E172*D172 -> 0
A174: 2.7 | C174: Piloti
...

Sheet rekapitulacija
A1: REKAPITULACIJA
A5: 01. PRIPRAVLJALNA DELA | C5: =popisi!F121 -> 0
A6: 02. ZEMELJSKA DELA | C6: =popisi!F196 -> 0
A7: 03. VOZIŠČNE KONSTRUKCIJE | C7: =popisi!F232 -> 0
A8: 04. ODVODNJAVANJE | C8: =popisi!F308 -> 0
A9: 05. GRADBENA IN OBRTNIŠKA DELA | C9: =popisi!F452 -> 0
A10: 06. OPREMA CESTE | C10: =popisi!F492 -> 0
A11: 07. TUJE STORITVE | C11: =popisi!F511 -> 0
A12: 09. RAZNO | C12: =popisi!F520 -> 0
A14: SKUPAJ | C14: =SUM(C5:C13) -> 0
A15: kom. popust | C15: 0
A16: SKUPAJ | C16: =C14-C15 -> 0
A17: 22% DDV | C17: =0.22*C16 -> 0
A18: SKUPAJ | C18: =C16+C17 -> 0
