Workbook

Sheet popisi
A2: ID 1152805 T.2.2 Predračun in rekapitulacija za intervencijsko stabilizacije zidov in I faze ceste LC 257 011 ob Helenskem potoku v dolžini 1000m. Pri vseh postavkah se naj upošteva nabava, dobava in izvedba.
A4: 1. | C4: PRIPRAVLJALNA DELA
A6: 1.1 | C6: Geodetska dela
A8: 11 211 | C8: Zakoličba objekta,zavarovanje prečnih profilov in geodetska spremljava tekom gradnje (profilov na cesti 59, 43 jaškov), posnetek po končani gradnji s certifikatom. Vzpostavit je potrebno poligon. Uradni zakoličbeni zapisnik
C10: ocena
A12: 11 212 | C12: Zakoličba komunalnih vodov (telekom,) in njihovo zavarovanje.Pri lastniku se sprotno preveri ali imajo kakšne interne vode
C14: ocena
A16: 11 222 | C16: Postavitev in zavarovanje prečnih profilov obojestransko se postavi križ
C17: kom | D17: 59 | F17: =E17*D17 -> 0
A19: 11 513 | C19: Določitev in preverjanje položajev, višin in smeri pri sanaciji in rehabilitaciji objekta s površino nad 1000m2
C21: kos | D21: 260 | F21: =E21*D21 -> 0
A23: 11 612 | C23: Sprotna geodetska spremljava izvedenih del po mesečnih situacijah
C24: ur | D24: 40 | F24: =E24*D24 -> 0
A26: 1.2 | C26: Čiščenje terena
A28: 12 111 | C28: Posek in odstranitev grmičevja z debli do 10cm in odvozom na deponijo, do 5km
C29: brežina ob robu ceste 970X3=2910m2 previdno čiščenje podrasti iz zidov 618m x 3,5m=2163m
C30: m2 | D30: 5073 | F30: =E30*D30 -> 0
A32: 12 111 | C32: Čiščenje ostankov lesa v strugi nad vtokom v naravni tunel (potreben HIAB z dolgo rokoin traktor z vitlom) in ob strugi in izdelava sekancev
C33: čiščenje ostankov v strugi in ob strugi
C34: m3 | D34: 25 | F34: =E34*D34 -> 0
A36: 12 112 | C36: Posek in odstranitev dreves z debli do 10-30cm z odstranitvijo vej in panjev, in čiščenje lesa iz struge odvoz k lastniku
C37: na plazu 46kom
C38: kom | D38: 46 | F38: =E38*D38 -> 0
A40: 12 113 | C40: Posek in odstranitev dreves z debli do 30-50cm z odstranitvijo vej in panjev na deponijo lastnika
C41: na plazu 18kom
C42: kom | D42: 18 | F42: =E42*D42 -> 0
A44: 1.2.3 | C44: Porušitev in odstranitev voziščnih konstrukcij
A46: 12 382 | C46: Rezanje asfalta debeline 10cm cesta 9m
C47: m1 | D47: 4 | F47: =E47*D47 -> 0
A49: 12 387 | C49: Rušenje asfaltnega vozišča do 10cm in odvoz na deponijo koncensijonarja do 30km. (evidenčni list) cesta 999x4m=3996m2 + razširitve 86m2
C50: m2 | D50: 4082 | F50: =E50*D50 -> 0
A52: 12 312 | C52: Rušenje grede in zemljine v debelini 60cm za razširitev ceste in odvoz na deponijo koncensijonarja do 5km. cesta 394x1,5x0,6m=591m2
C53: m2 | D53: 591 | F53: =E53*D53 -> 0
A55: 12 411 | C55: Rušenje prepustov z odvozom na deponijo koncensijonarja do 10km.
C56: m1 | D56: 42 | F56: =E56*D56 -> 0
A58: 1.3.1 | C58: Omejitev prometa
A60: 13 113 | C60: Izvedba elaborata in ureditev popolne zapore ceste za obdobje 210 dni z vsemi obvestilnimi tablami za obvoz, in znaki kateri označujejo neposredno bližino gradbišča, obvezno je vse stranke obvestiti, da se temu prilagodijo
C61: dan | D61: 210 | F61: =E61*D61 -> 0
A63: 1.3.2 | C63: Pripravljalna dela pri objektih
A65: 13 311 | C65: Priprava gradbišča in odstranitev, kontejner, elektrika (agregat 10kW), voda WC,gradbiščna ograja itd.
...

Sheet rekapitulacija
A1: REKAPITULACIJA
A5: 01. PRIPRAVLJALNA DELA | C5: =popisi!F121 -> 0
A6: 02. ZEMELJSKA DELA | C6: =popisi!F196 -> 0
A7: 03. VOZIŠČNE KONSTRUKCIJE | C7: =popisi!F232 -> 0
A8: 04. ODVODNJAVANJE | C8: =popisi!F308 -> 0
A9: 05. GRADBENA IN OBRTNIŠKA DELA | C9: =popisi!F452 -> 0
A10: 06. OPREMA CESTE | C10: =popisi!F492 -> 0
A11: 07. TUJE STORITVE | C11: =popisi!F511 -> 0
A12: 09. RAZNO | C12: =popisi!F520 -> 0
A14: SKUPAJ | C14: =SUM(C5:C13) -> 0
A15: kom. popust | C15: 0
A16: SKUPAJ | C16: =C14-C15 -> 0
A17: 22% DDV | C17: =0.22*C16 -> 0
A18: SKUPAJ | C18: =C16+C17 -> 0
